Workbook

Sheet Question One a
B1: Question One
B2: Income Statement (in millions $) | E2: Profoma Income Statement
B3: Year ending December 31, 2018 | D3: Sales Percent | E3: Year Ending December 31, 2019
B4: Sales | C4: 53700 | D4: =C4/$C$4 -> 1 | E4: =(1 + C17) *C4 -> 56385 | F4: Assumptions
B5: Cost of sales | C5: 9600 | D5: =C5/$C$4 -> 0.17877095 | E5: =D5 * $E$4 -> 10080 | F5: pro-forma amortization expense | G5: armotization expence 2018/intangible assets 2017
B6: Depreciation | C6: 1500 | D6: =C6/$G$8 -> 0.10791367 | E6: =D6 * $E$4 -> 6084.7122 | F6: other expenses remain constant.
B7: Amortization | C7: 4900 | D7: =$C$7/$G$9 -> 0.041952055 | E7: =D7 * $E$4 -> 2365.4666 | F7: Assumptions for the Year ended 31 December 2017 (in millions $)
B8: Gross Income | C8: 37700 | D8: =C8/$C$4 -> 0.70204842 | E8: =E4 - (E5+E6+E7) -> 37854.821 | F8: net property, plant, and equipment | G8: 13900
B9: Selling, general, administrative expenses | C9: 14400 | D9: =C9/$C$4 -> 0.26815642 | E9: =C9 -> 14400 | F9: intangible assets | G9: 116800
B10: Research and Development | C10: 8000 | D10: =C10/$C$4 -> 0.14897579 | E10: =C10 -> 8000 | F10: long-term debt | G10: 69700
B11: Other expenses | C11: 2100 | D11: =C11/$C$4 -> 0.039106145 | E11: =C11 -> 2100
B12: Interest Expense | C12: 1300 | D12: =C12/$C$4 -> 0.024208566 | E12: =C12 -> 1300
B13: Pre-Tax income | C13: 11900 | D13: =C13/$C$4 -> 0.22160149 | E13: =E8-(E9+E10+E11+E12) -> 12054.821
B14: Tax | C14: 700 | D14: =C14/C13 -> 0.058823529 | E14: =D14 * E13 -> 709.10713
B15: Net Income | C15: 11200 | D15: =C15/$C$4 -> 0.20856611 | E15: =E13-E14 -> 11345.714
B17: Projected Sales Growth Rate 2019 | C17: 0.05
B18: Assumptions
B19: Expenses that would rise with sales are cost of sales, gross income
B20: Selling general, administrative expense remains constant
B21: Research and development remain constant
B22: Other expenses remain constant
B23: Interest expense remains constant
B24: Depreciation cost is ratio of depreciation and cost of depreciatable equipment in 2017
B25: Tax percentage has been taken to be ratio of tax to pretax income for the previous year

Sheet Question two b,c,d,e
B1: Question one
B3: Assumptions
B4: other current assets, intangible assets, and other current liabilities remain constant
B5: pro-forma short-term debt | C5: short term debt / COGS 2018
B6: Sales growth rate | C6: 0.05
B7: Property, plant and equipment Increase | C7: 6000
B8: Dividends payable | C8: 12000
B9: Depreciation occurs on net property, plant and equipment
B10: Rate of Depreciation | C10: =(13900 - 13400)/13900 -> 0.035971223
B11: Short term debt Ratio | C11: =C27/'Question One a'!C5 -> 0.91666667
B13: Balance Sheet (in millions $) | E13: Proforma Balance Sheet (in millions $)
B14: Year Ended December 31, 2018 | E14: Year Ending December 31, 2019
B15: Assets | E15: Assets
B16: Cash | C16: 18800 | E16: Cash | F16: =C16 * (1 + $C$6) -> 19740
B17: Net Receivables | C17: 8000 | E17: Net Receivables | F17: =C17 * (1 + $C$6) -> 8400
B18: Inventory | C18: 7500 | E18: Inventory | F18: =C18 * (1 + $C$6) -> 7875
B19: Other Current Assets | C19: 15600 | E19: Other Current Assets | F19: =C19 -> 15600
B20: Current Assets | C20: 49900 | E20: Current Assets | F20: =SUM(F16:F19) -> 51615
B21: Net Property, Plant, Equipment | C21: 13400 | E21: Net property, Plant, equipment | F21: =C21 - (C21 * C10) + $C$7 -> 18917.986
B22: Intangible Assets | C22: 96100 | E22: Intangible Assets | F22: =C22 -> 96100
B23: Total Assets | C23: 159400 | E23: Total Assets | F23: =SUM(F20:F22) -> 166632.99
B25: Liabilities and Equity | E25: Liabilities and Equity
B26: Accounts Payable | C26: 4700 | E26: Accounts Payable | F26: =C26 * (1 + $C$6) -> 4935
B27: Short Term Debt | C27: 8800 | E27: Short Term Debt | F27: =C11*C27 -> 8066.6667
B28: Other Current Liabilities | C28: 18400 | E28: Other Current Liabilities | F28: =C28 -> 18400
B29: Current Liabilities | C29: 31900 | E29: Current Liabilities | F29: =SUM(F26:F28) -> 31401.667
B30: Long Term Debt | C30: 63800 | E30: Dividends | F30: =C8 -> 12000
B31: Total Liabilities | C31: 95700 | E31: depreciation | F31: =C21-(F21-C7) -> 482.01439
B32: Total Stockholders’ Equity | C32: 63700 | E32: Long Term Debt | F32: =C30 -4750.69 -> 59049.31
B33: Total Liabilities and Equity | C33: 159400 | E33: Total Liabilities | F33: =SUM(F29:F32) -> 102932.99
E34: Total Stockholders’ Equity | F34: =C32 -> 63700
E35: Total Liabilities and Equity | F35: =SUM(F33:F34) -> 166632.99
E38: Total Assets is less than total liabilities, so we retire the long term debt equal to the difference to balance the sheet
E39: The total amount retired | F39: 4750.69
B41: Net Income | C41: ='Question One a'!E15 -> 11345.714
B42: Interest | C42: ='Question One a'!E12 -> 1300
B43: Depreciation | C43: ='Question One a'!E6 -> 6084.7122
B44: Amortization | C44: ='Question One a'!E7 -> 2365.4666
B45: Property, equipment, plant | C45: =C7 -> 6000
B46: Current assets (less cash) | C46: =F20-F16 -> 31875
...
